BEGIN:VCALENDAR
VERSION:2.0
PRODID:SchoolNow
CALSCALE:GREGORIAN
BEGIN:VEVENT
UID:4f678e9e-8d01-11f0-a41e-0a58a9feac02
DTSTAMP:20251216T214528Z
SUMMARY:McCracken Boys Varsity Basketball Tryouts
URL;VALUE=URI:https://www.sd735.org/middleton/calendar/8596315/mccracken-bo
 ys-varsity-basketball-tryouts
DTSTART:20260108T210000Z
DTEND:20260108T221500Z
END:VEVENT
END:VCALENDAR
