BEGIN:VCALENDAR
VERSION:2.0
PRODID:SchoolNow
CALSCALE:GREGORIAN
BEGIN:VEVENT
UID:6e11e5ee-8a9d-11f0-a7c8-0a58a9feac02
DTSTAMP:20251216T214528Z
SUMMARY:McCracken BuzzBot Robotics Meeting
LOCATION:Niles North High School\, 9800 Lawler Ave\, Skokie\, IL 60077\, US
 A
URL;VALUE=URI:https://www.sd735.org/middleton/calendar/8585056/mccracken-bu
 zzbot-robotics-meeting
DTSTART:20251211T223000Z
DTEND:20251212T003000Z
END:VEVENT
END:VCALENDAR
