BEGIN:VCALENDAR
VERSION:2.0
PRODID:SchoolNow
CALSCALE:GREGORIAN
BEGIN:VEVENT
UID:89f759c0-886c-11f0-85af-0afff8e6d7c3
DTSTAMP:20251216T214529Z
SUMMARY:McCracken Start with Hello Week
URL;VALUE=URI:https://www.sd735.org/middleton/calendar/8572841/mccracken-st
 art-with-hello-week
DTSTART;VALUE=DATE:20250915
DTEND;VALUE=DATE:20250920
END:VEVENT
END:VCALENDAR
