BEGIN:VCALENDAR
VERSION:2.0
PRODID:SchoolNow
CALSCALE:GREGORIAN
BEGIN:VEVENT
UID:8e3c2534-8839-11f0-bc73-0a58a9feac02
DTSTAMP:20251216T214529Z
SUMMARY:Middleton Student and Staff Flu Clinic
LOCATION:John Middleton Elementary School\, 8300 St Louis Ave\, Skokie\, IL
  60076\, USA
URL;VALUE=URI:https://www.sd735.org/middleton/calendar/8571230/middleton-st
 udent-and-staff-flu-clinic
DTSTART;VALUE=DATE:20251111
DTEND;VALUE=DATE:20251112
END:VEVENT
END:VCALENDAR
