BEGIN:VCALENDAR
VERSION:2.0
PRODID:SchoolNow
CALSCALE:GREGORIAN
BEGIN:VEVENT
UID:8e3c2214-8839-11f0-a966-0a58a9feac02
DTSTAMP:20251216T214528Z
SUMMARY:McCracken Cross Country Meet
LOCATION:Lincoln Junior High School\, 7839 Lincoln Ave\, Skokie\, IL 60077\
 , USA
URL;VALUE=URI:https://www.sd735.org/middleton/calendar/8571227/mccracken-cr
 oss-country-meet
DTSTART:20250930T211500Z
DTEND:20250930T221500Z
END:VEVENT
END:VCALENDAR
