BEGIN:VCALENDAR
VERSION:2.0
PRODID:SchoolNow
CALSCALE:GREGORIAN
BEGIN:VEVENT
UID:8e3c20ca-8839-11f0-bdaa-0a58a9feac02
DTSTAMP:20251216T214528Z
SUMMARY:McCracken Cross Country Meet
LOCATION:Niles West High School\, 5701 Oakton St\, Skokie\, IL 60077\, USA
URL;VALUE=URI:https://www.sd735.org/middleton/calendar/8571226/mccracken-cr
 oss-country-meet
DTSTART:20250925T211500Z
DTEND:20250925T221500Z
END:VEVENT
END:VCALENDAR
