BEGIN:VCALENDAR
VERSION:2.0
PRODID:SchoolNow
CALSCALE:GREGORIAN
BEGIN:VEVENT
UID:8e3c1d3c-8839-11f0-a429-0a58a9feac02
DTSTAMP:20251216T214529Z
SUMMARY:McCracken Cross Country Meet
LOCATION:Old Orchard Jr High School\, 9310 Kenton Ave\, Skokie\, IL 60076\,
  USA
URL;VALUE=URI:https://www.sd735.org/middleton/calendar/8571225/mccracken-cr
 oss-country-meet
DTSTART:20250918T211500Z
DTEND:20250918T221500Z
END:VEVENT
END:VCALENDAR
