BEGIN:VCALENDAR
VERSION:2.0
PRODID:SchoolNow
CALSCALE:GREGORIAN
BEGIN:VEVENT
UID:972f4e1c-87a0-11f0-b99e-0affe69a9aa7
DTSTAMP:20251216T214529Z
SUMMARY:Parent-Teacher Conference Registration
URL;VALUE=URI:https://www.sd735.org/middleton/calendar/8568608/parent-teach
 er-conference-registration
DTSTART;VALUE=DATE:20250925
DTEND;VALUE=DATE:20251008
END:VEVENT
END:VCALENDAR
