BEGIN:VCALENDAR
VERSION:2.0
PRODID:SchoolNow
CALSCALE:GREGORIAN
BEGIN:VEVENT
UID:971e4928-87a0-11f0-b54c-0affe69a9aa7
DTSTAMP:20251216T214528Z
SUMMARY:McCracken Hornets' Hive Assembly
URL;VALUE=URI:https://www.sd735.org/middleton/calendar/8568600/mccracken-ho
 rnets-hive-assembly
DTSTART:20251219T200000Z
DTEND:20251219T210000Z
END:VEVENT
END:VCALENDAR
