BEGIN:VCALENDAR
VERSION:2.0
PRODID:SchoolNow
CALSCALE:GREGORIAN
BEGIN:VEVENT
UID:971e484c-87a0-11f0-9f0b-0affe69a9aa7
DTSTAMP:20251216T214528Z
SUMMARY:Middleton 2nd Grade Winter Music Concert
LOCATION:John Middleton Elementary School\, 8300 St Louis Ave\, Skokie\, IL
  60076\, USA
URL;VALUE=URI:https://www.sd735.org/middleton/calendar/8568599/middleton-2n
 d-grade-winter-music-concert
DTSTART:20251219T010000Z
DTEND:20251219T013000Z
END:VEVENT
END:VCALENDAR
