BEGIN:VCALENDAR
VERSION:2.0
PRODID:SchoolNow
CALSCALE:GREGORIAN
BEGIN:VEVENT
UID:971e4770-87a0-11f0-bb66-0affe69a9aa7
DTSTAMP:20251216T214529Z
SUMMARY:Middleton 1st Grade Winter Music Concert
LOCATION:John Middleton Elementary School\, 8300 St Louis Ave\, Skokie\, IL
  60076\, USA
URL;VALUE=URI:https://www.sd735.org/middleton/calendar/8568598/middleton-1s
 t-grade-winter-music-concert
DTSTART:20251219T000000Z
DTEND:20251219T003000Z
END:VEVENT
END:VCALENDAR
