BEGIN:VCALENDAR
VERSION:2.0
PRODID:SchoolNow
CALSCALE:GREGORIAN
BEGIN:VEVENT
UID:971e4680-87a0-11f0-a6cb-0affe69a9aa7
DTSTAMP:20251216T214528Z
SUMMARY:4th & 5th Grade Musical Callbacks
URL;VALUE=URI:https://www.sd735.org/middleton/calendar/8568597/4th-5th-grad
 e-musical-callbacks
DTSTART:20251216T210000Z
DTEND:20251216T233000Z
END:VEVENT
END:VCALENDAR
