BEGIN:VCALENDAR
VERSION:2.0
PRODID:SchoolNow
CALSCALE:GREGORIAN
BEGIN:VEVENT
UID:971e45a4-87a0-11f0-b632-0affe69a9aa7
DTSTAMP:20251216T214528Z
SUMMARY:Symphonic Band SuperState Recording Session
URL;VALUE=URI:https://www.sd735.org/middleton/calendar/8568596/symphonic-ba
 nd-superstate-recording-session
DTSTART:20251214T230000Z
DTEND:20251214T233000Z
END:VEVENT
END:VCALENDAR
