BEGIN:VCALENDAR
VERSION:2.0
PRODID:SchoolNow
CALSCALE:GREGORIAN
BEGIN:VEVENT
UID:971e44be-87a0-11f0-bfe3-0affe69a9aa7
DTSTAMP:20251216T214528Z
SUMMARY:McCracken Intermediate Band & Concert Band Concert
LOCATION:Oliver McCracken Middle School\, 8000 E Prairie Rd\, Skokie\, IL 6
 0076\, USA
URL;VALUE=URI:https://www.sd735.org/middleton/calendar/8568595/mccracken-in
 termediate-band-concert-band-concert
DTSTART:20251211T010000Z
DTEND:20251211T030000Z
END:VEVENT
END:VCALENDAR
