BEGIN:VCALENDAR
VERSION:2.0
PRODID:SchoolNow
CALSCALE:GREGORIAN
BEGIN:VEVENT
UID:971e43ce-87a0-11f0-b4c4-0affe69a9aa7
DTSTAMP:20251216T214528Z
SUMMARY:4th Grade Musical Auditions
URL;VALUE=URI:https://www.sd735.org/middleton/calendar/8568594/4th-grade-mu
 sical-auditions
DTSTART:20251210T210000Z
DTEND:20251210T233000Z
END:VEVENT
END:VCALENDAR
