BEGIN:VCALENDAR
VERSION:2.0
PRODID:SchoolNow
CALSCALE:GREGORIAN
BEGIN:VEVENT
UID:971e42e8-87a0-11f0-b1c1-0affe69a9aa7
DTSTAMP:20251216T214528Z
SUMMARY:5th Grade Musical Auditions
URL;VALUE=URI:https://www.sd735.org/middleton/calendar/8568593/5th-grade-mu
 sical-auditions
DTSTART:20251208T210000Z
DTEND:20251208T233000Z
END:VEVENT
END:VCALENDAR
