BEGIN:VCALENDAR
VERSION:2.0
PRODID:SchoolNow
CALSCALE:GREGORIAN
BEGIN:VEVENT
UID:971e41f8-87a0-11f0-97b9-0affe69a9aa7
DTSTAMP:20251216T214528Z
SUMMARY:Intermediate Band & Concert Band:  Center Cass District 66 Winter I
 nvitational
LOCATION:Center Cass School District 66\, IL\, USA
URL;VALUE=URI:https://www.sd735.org/middleton/calendar/8568592/intermediate
 -band-concert-band-center-cass-district-66-winter-invitational
DTSTART;VALUE=DATE:20251206
DTEND;VALUE=DATE:20251207
END:VEVENT
END:VCALENDAR
