BEGIN:VCALENDAR
VERSION:2.0
PRODID:SchoolNow
CALSCALE:GREGORIAN
BEGIN:VEVENT
UID:971e400e-87a0-11f0-963e-0affe69a9aa7
DTSTAMP:20251216T214529Z
SUMMARY:Niles North High School & 8th Grade Band Day
LOCATION:Niles North High School\, 9800 Lawler Ave\, Skokie\, IL 60077\, US
 A
URL;VALUE=URI:https://www.sd735.org/middleton/calendar/8568590/niles-north-
 high-school-8th-grade-band-day
DTSTART:20251204T013000Z
DTEND:20251204T023000Z
END:VEVENT
END:VCALENDAR
