BEGIN:VCALENDAR
VERSION:2.0
PRODID:SchoolNow
CALSCALE:GREGORIAN
BEGIN:VEVENT
UID:971e3ef6-87a0-11f0-b8b4-0affe69a9aa7
DTSTAMP:20251216T214528Z
SUMMARY:4th Grade Musical Workshop
URL;VALUE=URI:https://www.sd735.org/middleton/calendar/8568589/4th-grade-mu
 sical-workshop
DTSTART:20251203T210000Z
DTEND:20251203T233000Z
END:VEVENT
END:VCALENDAR
