BEGIN:VCALENDAR
VERSION:2.0
PRODID:SchoolNow
CALSCALE:GREGORIAN
BEGIN:VEVENT
UID:971e3db6-87a0-11f0-bf1b-0affe69a9aa7
DTSTAMP:20251216T214528Z
SUMMARY:5th Grade Musical Workshop
URL;VALUE=URI:https://www.sd735.org/middleton/calendar/8568588/5th-grade-mu
 sical-workshop
DTSTART:20251201T210000Z
DTEND:20251201T233000Z
END:VEVENT
END:VCALENDAR
