BEGIN:VCALENDAR
VERSION:2.0
PRODID:SchoolNow
CALSCALE:GREGORIAN
BEGIN:VEVENT
UID:971e3a32-87a0-11f0-aeb1-0affe69a9aa7
DTSTAMP:20251216T214528Z
SUMMARY:Niles North 8th Grade Choir Festival
URL;VALUE=URI:https://www.sd735.org/middleton/calendar/8568587/niles-north-
 8th-grade-choir-festival
DTSTART;VALUE=DATE:20251119
DTEND;VALUE=DATE:20251120
END:VEVENT
END:VCALENDAR
