BEGIN:VCALENDAR
VERSION:2.0
PRODID:SchoolNow
CALSCALE:GREGORIAN
BEGIN:VEVENT
UID:b775ee86-8509-11f0-8ff1-0a58a9feac02
DTSTAMP:20251216T214529Z
SUMMARY:Finance Committee Meeting
LOCATION:Oliver McCracken Middle School
URL;VALUE=URI:https://www.sd735.org/middleton/calendar/8558608/finance-comm
 ittee-meeting
DTSTART:20250905T000000Z
DTEND:20250905T013000Z
END:VEVENT
END:VCALENDAR
