BEGIN:VCALENDAR
VERSION:2.0
PRODID:SchoolNow
CALSCALE:GREGORIAN
BEGIN:VEVENT
UID:bb8bc20c-7edd-11f0-90b4-0affc6ac0533
DTSTAMP:20251216T214529Z
SUMMARY:McCracken Musical Rehearsal (Cast and Crew)
URL;VALUE=URI:https://www.sd735.org/middleton/calendar/8529672/mccracken-mu
 sical-rehearsal-cast-and-crew
DTSTART:20251112T210000Z
DTEND:20251113T000000Z
END:VEVENT
END:VCALENDAR
