BEGIN:VCALENDAR
VERSION:2.0
PRODID:SchoolNow
CALSCALE:GREGORIAN
BEGIN:VEVENT
UID:bb8bc126-7edd-11f0-a101-0affc6ac0533
DTSTAMP:20251216T214529Z
SUMMARY:McCracken Musical Rehearsal (Cast and Crew)
URL;VALUE=URI:https://www.sd735.org/middleton/calendar/8529671/mccracken-mu
 sical-rehearsal-cast-and-crew
DTSTART:20251111T220000Z
DTEND:20251112T010000Z
END:VEVENT
END:VCALENDAR
