BEGIN:VCALENDAR
VERSION:2.0
PRODID:SchoolNow
CALSCALE:GREGORIAN
BEGIN:VEVENT
UID:bb8bb884-7edd-11f0-b6ac-0affc6ac0533
DTSTAMP:20251216T214529Z
SUMMARY:Middleton 3rd-5th Grade Running Club
URL;VALUE=URI:https://www.sd735.org/middleton/calendar/8529663/middleton-3r
 d-5th-grade-running-club
DTSTART:20250911T200000Z
DTEND:20250911T205000Z
END:VEVENT
END:VCALENDAR
