BEGIN:VCALENDAR
VERSION:2.0
PRODID:SchoolNow
CALSCALE:GREGORIAN
BEGIN:VEVENT
UID:bb81907a-7edd-11f0-96fd-0affc6ac0533
DTSTAMP:20251216T214528Z
SUMMARY:Middleton Musical Parent Informational Meeting
URL;VALUE=URI:https://www.sd735.org/middleton/calendar/8529661/middleton-mu
 sical-parent-informational-meeting
DTSTART:20251107T003000Z
DTEND:20251107T010000Z
END:VEVENT
END:VCALENDAR
