BEGIN:VCALENDAR
VERSION:2.0
PRODID:SchoolNow
CALSCALE:GREGORIAN
BEGIN:VEVENT
UID:bb818ea4-7edd-11f0-b086-0affc6ac0533
DTSTAMP:20251216T214528Z
SUMMARY:McCracken Fall Musical Performance
LOCATION:Oliver McCracken Middle School\, 8000 E Prairie Rd\, Skokie\, IL 6
 0076\, USA
URL;VALUE=URI:https://www.sd735.org/middleton/calendar/8529659/mccracken-fa
 ll-musical-performance
DTSTART:20251115T200000Z
DTEND:20251115T220000Z
END:VEVENT
END:VCALENDAR
