BEGIN:VCALENDAR
VERSION:2.0
PRODID:SchoolNow
CALSCALE:GREGORIAN
BEGIN:VEVENT
UID:bb818cba-7edd-11f0-b77d-0affc6ac0533
DTSTAMP:20251216T214528Z
SUMMARY:McCracken Musical School Preview
LOCATION:Oliver McCracken Middle School\, 8000 E Prairie Rd\, Skokie\, IL 6
 0076\, USA
URL;VALUE=URI:https://www.sd735.org/middleton/calendar/8529657/mccracken-mu
 sical-school-preview
DTSTART:20251114T200000Z
DTEND:20251114T210000Z
END:VEVENT
END:VCALENDAR
