BEGIN:VCALENDAR
VERSION:2.0
PRODID:SchoolNow
CALSCALE:GREGORIAN
BEGIN:VEVENT
UID:bb818b98-7edd-11f0-bfdd-0affc6ac0533
DTSTAMP:20251216T214528Z
SUMMARY:McCracken Musical Tech Rehearsal (Cast and Crew)
URL;VALUE=URI:https://www.sd735.org/middleton/calendar/8529656/mccracken-mu
 sical-tech-rehearsal-cast-and-crew
DTSTART:20251108T143000Z
DTEND:20251108T210000Z
END:VEVENT
END:VCALENDAR
