BEGIN:VCALENDAR
VERSION:2.0
PRODID:SchoolNow
CALSCALE:GREGORIAN
BEGIN:VEVENT
UID:bb8189fe-7edd-11f0-a980-0affc6ac0533
DTSTAMP:20251216T214528Z
SUMMARY:McCracken Musical Rehearsal
URL;VALUE=URI:https://www.sd735.org/middleton/calendar/8529655/mccracken-mu
 sical-rehearsal
DTSTART:20251107T210000Z
DTEND:20251108T010000Z
END:VEVENT
END:VCALENDAR
