BEGIN:VCALENDAR
VERSION:2.0
PRODID:SchoolNow
CALSCALE:GREGORIAN
BEGIN:VEVENT
UID:c0bf9ec6-7e77-11f0-9add-0a58a9feac02
DTSTAMP:20251216T214528Z
SUMMARY:Building 73.5 Community Engagement Session #3
LOCATION:John Middleton Elementary School\, 8300 St Louis Ave\, Skokie\, IL
  60076\, USA
URL;VALUE=URI:https://www.sd735.org/middleton/calendar/8527349/building-73-
 5-community-engagement-session-3
DTSTART:20251017T000000Z
DTEND:20251017T020000Z
END:VEVENT
END:VCALENDAR
