BEGIN:VCALENDAR
VERSION:2.0
PRODID:SchoolNow
CALSCALE:GREGORIAN
BEGIN:VEVENT
UID:d07b070c-7d45-11f0-ab79-0a58a9feac02
DTSTAMP:20251216T214528Z
SUMMARY:McCracken 7th Grade Locker Setup
LOCATION:Oliver McCracken Middle School\, 8000 E Prairie Rd\, Skokie\, IL 6
 0076\, USA
URL;VALUE=URI:https://www.sd735.org/middleton/calendar/8522653/mccracken-7t
 h-grade-locker-setup
DTSTART:20250820T140000Z
DTEND:20250820T150000Z
END:VEVENT
END:VCALENDAR
