BEGIN:VCALENDAR
VERSION:2.0
PRODID:SchoolNow
CALSCALE:GREGORIAN
BEGIN:VEVENT
UID:da24c6c0-7c79-11f0-b471-0affd2a8973f
DTSTAMP:20251216T214528Z
SUMMARY:Coffee with the Superintendent
LOCATION:Oliver McCracken Middle School\, 8000 E Prairie Rd\, Skokie\, IL 6
 0076\, USA
URL;VALUE=URI:https://www.sd735.org/middleton/calendar/8519205/coffee-with-
 the-superintendent
DTSTART:20250903T134500Z
DTEND:20250903T144500Z
END:VEVENT
END:VCALENDAR
