BEGIN:VCALENDAR
VERSION:2.0
PRODID:SchoolNow
CALSCALE:GREGORIAN
BEGIN:VEVENT
UID:09696a78-7917-11f0-b0e9-0affecd88709
DTSTAMP:20251216T214528Z
SUMMARY:Meet the Superintendent!
LOCATION:Elizabeth Meyer School\, 8100 Tripp Ave\, Skokie\, IL 60076\, USA
URL;VALUE=URI:https://www.sd735.org/middleton/calendar/8507415/meet-the-sup
 erintendent
DTSTART:20250911T000000Z
DTEND:20250911T020000Z
END:VEVENT
END:VCALENDAR
