BEGIN:VCALENDAR
VERSION:2.0
PRODID:SchoolNow
CALSCALE:GREGORIAN
BEGIN:VEVENT
UID:30c41556-75e7-11f0-8713-0e8808aa1387
DTSTAMP:20251216T214528Z
SUMMARY:Middleton 5th Grade White Pines Parent Info Session
LOCATION:John Middleton Elementary School\, 8300 St Louis Ave\, Skokie\, IL
  60076\, USA
URL;VALUE=URI:https://www.sd735.org/middleton/calendar/8487428/middleton-5t
 h-grade-white-pines-parent-info-session
DTSTART:20250917T230000Z
DTEND:20250917T233000Z
END:VEVENT
END:VCALENDAR
