BEGIN:VCALENDAR
VERSION:2.0
PRODID:SchoolNow
CALSCALE:GREGORIAN
BEGIN:VEVENT
UID:40292218-7482-11f0-b8a2-0afff92c9fcb
DTSTAMP:20251216T214528Z
SUMMARY:Meyer Socktober Social
LOCATION:Elizabeth Meyer School\, 8100 Tripp Ave\, Skokie\, IL 60076\, USA
URL;VALUE=URI:https://www.sd735.org/middleton/calendar/8483069/meyer-sockto
 ber-social
DTSTART:20251030T230000Z
DTEND:20251031T000000Z
END:VEVENT
END:VCALENDAR
