BEGIN:VCALENDAR
VERSION:2.0
PRODID:SchoolNow
CALSCALE:GREGORIAN
BEGIN:VEVENT
UID:4029213c-7482-11f0-a6e8-0afff92c9fcb
DTSTAMP:20251216T214528Z
SUMMARY:McCracken Boys Varsity Soccer vs. Lincoln Hall
LOCATION:Oliver McCracken Middle School\, 8000 E Prairie Rd\, Skokie\, IL 6
 0076\, USA
URL;VALUE=URI:https://www.sd735.org/middleton/calendar/8483068/mccracken-bo
 ys-varsity-soccer-vs-lincoln-hall
DTSTART:20251008T210000Z
DTEND:20251008T220000Z
END:VEVENT
END:VCALENDAR
