BEGIN:VCALENDAR
VERSION:2.0
PRODID:SchoolNow
CALSCALE:GREGORIAN
BEGIN:VEVENT
UID:40292060-7482-11f0-b3d2-0afff92c9fcb
DTSTAMP:20251216T214528Z
SUMMARY:McCracken Girls JV Volleyball Tournament
URL;VALUE=URI:https://www.sd735.org/middleton/calendar/8483067/mccracken-gi
 rls-jv-volleyball-tournament
DTSTART;VALUE=DATE:20251016
DTEND;VALUE=DATE:20251017
END:VEVENT
END:VCALENDAR
