BEGIN:VCALENDAR
VERSION:2.0
PRODID:SchoolNow
CALSCALE:GREGORIAN
BEGIN:VEVENT
UID:40291ea8-7482-11f0-b19c-0afff92c9fcb
DTSTAMP:20251216T214529Z
SUMMARY:McCracken Boys JV Soccer at Lincoln Hall
LOCATION:Lincoln Hall Middle School\, 6855 N Crawford Ave\, Lincolnwood\, I
 L 60712\, USA
URL;VALUE=URI:https://www.sd735.org/middleton/calendar/8483065/mccracken-bo
 ys-jv-soccer-at-lincoln-hall
DTSTART:20251016T210000Z
DTEND:20251016T220000Z
END:VEVENT
END:VCALENDAR
