BEGIN:VCALENDAR
VERSION:2.0
PRODID:SchoolNow
CALSCALE:GREGORIAN
BEGIN:VEVENT
UID:40291bf6-7482-11f0-832f-0afff92c9fcb
DTSTAMP:20251216T214528Z
SUMMARY:McCracken Boys JV Soccer vs. Fairview
LOCATION:Oliver McCracken Middle School\, 8000 E Prairie Rd\, Skokie\, IL 6
 0076\, USA
URL;VALUE=URI:https://www.sd735.org/middleton/calendar/8483062/mccracken-bo
 ys-jv-soccer-vs-fairview
DTSTART:20251015T211500Z
DTEND:20251015T221500Z
END:VEVENT
END:VCALENDAR
