BEGIN:VCALENDAR
VERSION:2.0
PRODID:SchoolNow
CALSCALE:GREGORIAN
BEGIN:VEVENT
UID:40291b10-7482-11f0-bd1b-0afff92c9fcb
DTSTAMP:20251216T214528Z
SUMMARY:McCracken Boys Varsity Soccer Tournament Final Round
URL;VALUE=URI:https://www.sd735.org/middleton/calendar/8483061/mccracken-bo
 ys-varsity-soccer-tournament-final-round
DTSTART:20251016T233000Z
DTEND:20251017T003000Z
END:VEVENT
END:VCALENDAR
