BEGIN:VCALENDAR
VERSION:2.0
PRODID:SchoolNow
CALSCALE:GREGORIAN
BEGIN:VEVENT
UID:40291912-7482-11f0-ab2c-0afff92c9fcb
DTSTAMP:20251216T214528Z
SUMMARY:McCracken Boys Varsity Soccer Tournament Rounds 1 & 2
URL;VALUE=URI:https://www.sd735.org/middleton/calendar/8483059/mccracken-bo
 ys-varsity-soccer-tournament-rounds-1-2
DTSTART:20251011T133000Z
DTEND:20251011T143000Z
END:VEVENT
END:VCALENDAR
