BEGIN:VCALENDAR
VERSION:2.0
PRODID:SchoolNow
CALSCALE:GREGORIAN
BEGIN:VEVENT
UID:40291750-7482-11f0-883c-0afff92c9fcb
DTSTAMP:20251216T214528Z
SUMMARY:McCracken Boys Varsity Soccer Play In Game
URL;VALUE=URI:https://www.sd735.org/middleton/calendar/8483057/mccracken-bo
 ys-varsity-soccer-play-in-game
DTSTART;VALUE=DATE:20251009
DTEND;VALUE=DATE:20251010
END:VEVENT
END:VCALENDAR
