BEGIN:VCALENDAR
VERSION:2.0
PRODID:SchoolNow
CALSCALE:GREGORIAN
BEGIN:VEVENT
UID:40291674-7482-11f0-98d7-0afff92c9fcb
DTSTAMP:20251216T214528Z
SUMMARY:McCracken Boys Varsity Soccer at Old Orchard
LOCATION:Old Orchard Jr High School\, 9310 Kenton Ave\, Skokie\, IL 60076\,
  USA
URL;VALUE=URI:https://www.sd735.org/middleton/calendar/8483056/mccracken-bo
 ys-varsity-soccer-at-old-orchard
DTSTART:20251009T210000Z
DTEND:20251009T220000Z
END:VEVENT
END:VCALENDAR
