BEGIN:VCALENDAR
VERSION:2.0
PRODID:SchoolNow
CALSCALE:GREGORIAN
BEGIN:VEVENT
UID:4029158e-7482-11f0-9d63-0afff92c9fcb
DTSTAMP:20251216T214528Z
SUMMARY:McCracken Girls JV Volleyball vs. Culver
LOCATION:Oliver McCracken Middle School\, 8000 E Prairie Rd\, Skokie\, IL 6
 0076\, USA
URL;VALUE=URI:https://www.sd735.org/middleton/calendar/8483055/mccracken-gi
 rls-jv-volleyball-vs-culver
DTSTART:20251008T204500Z
DTEND:20251008T214500Z
END:VEVENT
END:VCALENDAR
