BEGIN:VCALENDAR
VERSION:2.0
PRODID:SchoolNow
CALSCALE:GREGORIAN
BEGIN:VEVENT
UID:402914a8-7482-11f0-a38b-0afff92c9fcb
DTSTAMP:20251216T214529Z
SUMMARY:McCracken Girls Varsity Volleyball vs. Culver
LOCATION:Oliver McCracken Middle School\, 8000 E Prairie Rd\, Skokie\, IL 6
 0076\, USA
URL;VALUE=URI:https://www.sd735.org/middleton/calendar/8483054/mccracken-gi
 rls-varsity-volleyball-vs-culver
DTSTART:20251008T214500Z
DTEND:20251008T224500Z
END:VEVENT
END:VCALENDAR
