BEGIN:VCALENDAR
VERSION:2.0
PRODID:SchoolNow
CALSCALE:GREGORIAN
BEGIN:VEVENT
UID:402913b8-7482-11f0-9c00-0afff92c9fcb
DTSTAMP:20251216T214528Z
SUMMARY:McCracken Girls 6th Grade Volleyball at Fairview
LOCATION:Fairview South Elementary School\, 7040 Laramie Ave\, Skokie\, IL 
 60077\, USA
URL;VALUE=URI:https://www.sd735.org/middleton/calendar/8483053/mccracken-gi
 rls-6th-grade-volleyball-at-fairview
DTSTART:20251007T211500Z
DTEND:20251007T221500Z
END:VEVENT
END:VCALENDAR
