BEGIN:VCALENDAR
VERSION:2.0
PRODID:SchoolNow
CALSCALE:GREGORIAN
BEGIN:VEVENT
UID:402912d2-7482-11f0-9c95-0afff92c9fcb
DTSTAMP:20251216T214528Z
SUMMARY:McCracken Boys JV Soccer vs. Lincoln
LOCATION:Oliver McCracken Middle School\, 8000 E Prairie Rd\, Skokie\, IL 6
 0076\, USA
URL;VALUE=URI:https://www.sd735.org/middleton/calendar/8483052/mccracken-bo
 ys-jv-soccer-vs-lincoln
DTSTART:20251007T211500Z
DTEND:20251007T221500Z
END:VEVENT
END:VCALENDAR
