BEGIN:VCALENDAR
VERSION:2.0
PRODID:SchoolNow
CALSCALE:GREGORIAN
BEGIN:VEVENT
UID:402911e2-7482-11f0-96af-0afff92c9fcb
DTSTAMP:20251216T214528Z
SUMMARY:McCracken Girls 6th Grade Volleyball at Lincoln
LOCATION:Lincoln Junior High School\, 7839 Lincoln Ave\, Skokie\, IL 60077\
 , USA
URL;VALUE=URI:https://www.sd735.org/middleton/calendar/8483051/mccracken-gi
 rls-6th-grade-volleyball-at-lincoln
DTSTART:20251003T211500Z
DTEND:20251003T221500Z
END:VEVENT
END:VCALENDAR
