BEGIN:VCALENDAR
VERSION:2.0
PRODID:SchoolNow
CALSCALE:GREGORIAN
BEGIN:VEVENT
UID:402910de-7482-11f0-98cc-0afff92c9fcb
DTSTAMP:20251216T214528Z
SUMMARY:McCracken Boys Varsity Soccer vs. Golf
LOCATION:Oliver McCracken Middle School\, 8000 E Prairie Rd\, Skokie\, IL 6
 0076\, USA
URL;VALUE=URI:https://www.sd735.org/middleton/calendar/8483050/mccracken-bo
 ys-varsity-soccer-vs-golf
DTSTART:20251003T210000Z
DTEND:20251003T220000Z
END:VEVENT
END:VCALENDAR
